BEGIN:VCALENDAR
VERSION:2.0
PRODID:-//Federación Extremeña de Automovilismo - ECPv6.15.20//NONSGML v1.0//EN
CALSCALE:GREGORIAN
METHOD:PUBLISH
X-WR-CALNAME:Federación Extremeña de Automovilismo
X-ORIGINAL-URL:https://fexa.es
X-WR-CALDESC:Eventos para Federación Extremeña de Automovilismo
REFRESH-INTERVAL;VALUE=DURATION:PT1H
X-Robots-Tag:noindex
X-PUBLISHED-TTL:PT1H
BEGIN:VTIMEZONE
TZID:Europe/Paris
BEGIN:DAYLIGHT
TZOFFSETFROM:+0100
TZOFFSETTO:+0200
TZNAME:CEST
DTSTART:20250330T010000
END:DAYLIGHT
BEGIN:STANDARD
TZOFFSETFROM:+0200
TZOFFSETTO:+0100
TZNAME:CET
DTSTART:20251026T010000
END:STANDARD
BEGIN:DAYLIGHT
TZOFFSETFROM:+0100
TZOFFSETTO:+0200
TZNAME:CEST
DTSTART:20260329T010000
END:DAYLIGHT
BEGIN:STANDARD
TZOFFSETFROM:+0200
TZOFFSETTO:+0100
TZNAME:CET
DTSTART:20261025T010000
END:STANDARD
BEGIN:DAYLIGHT
TZOFFSETFROM:+0100
TZOFFSETTO:+0200
TZNAME:CEST
DTSTART:20270328T010000
END:DAYLIGHT
BEGIN:STANDARD
TZOFFSETFROM:+0200
TZOFFSETTO:+0100
TZNAME:CET
DTSTART:20271031T010000
END:STANDARD
END:VTIMEZONE
BEGIN:VEVENT
DTSTART;TZID=Europe/Paris:20260614T080000
DTEND;TZID=Europe/Paris:20260614T170000
DTSTAMP:20260426T034349
CREATED:20260209T203941Z
LAST-MODIFIED:20260303T195416Z
UID:12374-1781424000-1781456400@fexa.es
SUMMARY:KARTING VELOCIDAD FEXA - CÁCERES II
DESCRIPTION:Inscripción onlineClick Here\nREGLAMENTO \nHOJA DE INSCRIPCIÓN
URL:https://fexa.es/evento/karting-velocidad-caceres-ii/
CATEGORIES:Karting
ATTACH;FMTTYPE=image/jpeg:https://fexa.es/wp-content/uploads/G.jpg
END:VEVENT
END:VCALENDAR